BEGIN:VCALENDAR
VERSION:2.0
PRODID:-//Squarespace Inc/Squarespace 6//v6//EN
BEGIN:VEVENT
UID:6025cb37976ccb614560d8b2@squarespace.com
DTSTAMP:20210215T115143Z
DTSTART:20210224T080000Z
DTEND:20210224T110000Z
SUMMARY:Your Perfect Serve - Applewood Distillery Evening
END:VEVENT
END:VCALENDAR
