BEGIN:VCALENDAR
VERSION:2.0
PRODID:-//Squarespace Inc/Squarespace 6//v6//EN
BEGIN:VEVENT
UID:5f4279603a787556900e7140@squarespace.com
DTSTAMP:20200823T141350Z
DTSTART:20201015T083000Z
DTEND:20201015T123000Z
SUMMARY:Yalumba Wine Dinner
END:VEVENT
END:VCALENDAR
