BEGIN:VCALENDAR
VERSION:2.0
PRODID:-//Squarespace Inc/Squarespace 6//v6//EN
BEGIN:VEVENT
UID:5e1fd534c93b505222d149c0@squarespace.com
DTSTAMP:20200205T015617Z
DTSTART:20200214T013000Z
DTEND:20200216T130000Z
SUMMARY:Valentines Weekend
END:VEVENT
END:VCALENDAR
