BEGIN:VCALENDAR
VERSION:2.0
PRODID:-//Squarespace Inc/Squarespace 6//v6//EN
BEGIN:VEVENT
UID:60042b13c580bf115da0ba88@squarespace.com
DTSTAMP:20210122T004030Z
DTSTART:20210214T063000Z
DTEND:20210214T113000Z
SUMMARY:Valentines Day 
END:VEVENT
END:VCALENDAR
