BEGIN:VCALENDAR
VERSION:2.0
PRODID:-//Squarespace Inc/Squarespace 6//v6//EN
BEGIN:VEVENT
UID:5f9aa9b544769a76c802ba7b@squarespace.com
DTSTAMP:20201029T114240Z
DTSTART:20201231T063000Z
DTEND:20201231T132900Z
SUMMARY:New Year's Eve 2020
END:VEVENT
END:VCALENDAR
