BEGIN:VCALENDAR
VERSION:2.0
PRODID:-//Squarespace Inc/Squarespace 6//v6//EN
BEGIN:VEVENT
UID:5f9a4b3ce1a7934088af495c@squarespace.com
DTSTAMP:20201029T045839Z
DTSTART:20201103T013000Z
DTEND:20201103T043000Z
SUMMARY:Melbourne Cup Luncheon
END:VEVENT
END:VCALENDAR
