BEGIN:VCALENDAR
VERSION:2.0
PRODID:-//Squarespace Inc/Squarespace 6//v6//EN
BEGIN:VEVENT
UID:5e3632c79995006209e6f4f9@squarespace.com
DTSTAMP:20200202T090102Z
DTSTART:20200201T003000Z
DTEND:20200229T132900Z
SUMMARY:Margarita Month
END:VEVENT
END:VCALENDAR
