BEGIN:VCALENDAR
VERSION:2.0
PRODID:-//Squarespace Inc/Squarespace 6//v6//EN
BEGIN:VEVENT
UID:5e363d21cd5a0d4354e2e5c6@squarespace.com
DTSTAMP:20200202T085803Z
DTSTART:20200306T010000Z
DTEND:20200306T040000Z
SUMMARY:International Women's Day Long Lunch
END:VEVENT
END:VCALENDAR
