BEGIN:VCALENDAR
VERSION:2.0
PRODID:-//Squarespace Inc/Squarespace 6//v6//EN
BEGIN:VEVENT
UID:5ff944adfb26793593ab95a4@squarespace.com
DTSTAMP:20210109T055933Z
DTSTART:20210119T083000Z
DTEND:20210119T103000Z
SUMMARY:Brookies Tasting Session Presented by Your Perfect Serve
END:VEVENT
END:VCALENDAR
