BEGIN:VCALENDAR
VERSION:2.0
PRODID:-//Squarespace Inc/Squarespace 6//v6//EN
BEGIN:VEVENT
UID:5e1fd23a6520195adfb9ba19@squarespace.com
DTSTAMP:20200116T031357Z
DTSTART:20200126T013000Z
DTEND:20200126T130000Z
SUMMARY:Australia Day Garden Party
END:VEVENT
END:VCALENDAR
