BEGIN:VCALENDAR
VERSION:2.0
PRODID:-//Squarespace Inc/Squarespace 6//v6//EN
BEGIN:VEVENT
UID:5f42795496cb8352b457a834@squarespace.com
DTSTAMP:20200823T141343Z
DTSTART:20200927T043000Z
DTEND:20200927T073000Z
SUMMARY:Art + Bubbles
END:VEVENT
END:VCALENDAR
