BEGIN:VCALENDAR
VERSION:2.0
PRODID:-//Squarespace Inc/Squarespace 6//v6//EN
BEGIN:VEVENT
UID:602a54bbb441e6035c54cd5b@squarespace.com
DTSTAMP:20210215T115959Z
DTSTART:20210429T090000Z
DTEND:20210429T140000Z
SUMMARY:An Evening With 23rd Street Distillery 
END:VEVENT
END:VCALENDAR
